BEGIN:VCALENDAR
VERSION:2.0
PRODID:-//Bowfishing Association of America - ECPv4.7.3//NONSGML v1.0//EN
CALSCALE:GREGORIAN
METHOD:PUBLISH
X-WR-CALNAME:Bowfishing Association of America
X-ORIGINAL-URL:https://bowfishingassociation.com
X-WR-CALDESC:Events for Bowfishing Association of America
BEGIN:VEVENT
DTSTART;TZID=UTC+0:20180616T000000
DTEND;TZID=UTC+0:20180616T000000
DTSTAMP:20260424T194003
CREATED:20180627T171700Z
LAST-MODIFIED:20180627T171700Z
UID:4877-1529107200-1529107200@bowfishingassociation.com
SUMMARY:WBA 2nd Annual State Bowfishing Tourn.
DESCRIPTION:
URL:https://bowfishingassociation.com/event/wba-2nd-annual-state-bowfishing-tourn/
END:VEVENT
END:VCALENDAR