BEGIN:VCALENDAR
VERSION:2.0
PRODID:-//Bowfishing Association of America - ECPv4.7.3//NONSGML v1.0//EN
CALSCALE:GREGORIAN
METHOD:PUBLISH
X-WR-CALNAME:Bowfishing Association of America
X-ORIGINAL-URL:https://bowfishingassociation.com
X-WR-CALDESC:Events for Bowfishing Association of America
BEGIN:VEVENT
DTSTART;TZID=UTC+0:20180707T180000
DTEND;TZID=UTC+0:20180708T080000
DTSTAMP:20260424T111824
CREATED:20180626T173234Z
LAST-MODIFIED:20180627T171639Z
UID:4687-1530986400-1531036800@bowfishingassociation.com
SUMMARY:Washington Open Night Shoot
DESCRIPTION:Big 5/Numbers/Big Fish \n
URL:https://bowfishingassociation.com/event/washington-open-night-shoot/
CATEGORIES:Big 5/Numbers
END:VEVENT
END:VCALENDAR