BEGIN:VCALENDAR
VERSION:2.0
PRODID:-//Bowfishing Association of America - ECPv4.7.3//NONSGML v1.0//EN
CALSCALE:GREGORIAN
METHOD:PUBLISH
X-WR-CALNAME:Bowfishing Association of America
X-ORIGINAL-URL:https://bowfishingassociation.com
X-WR-CALDESC:Events for Bowfishing Association of America
BEGIN:VEVENT
DTSTART;TZID=America/Chicago:20200425T180000
DTEND;TZID=America/Chicago:20200426T080000
DTSTAMP:20260422T013247
CREATED:20200128T033603Z
LAST-MODIFIED:20200128T033605Z
UID:6632-1587837600-1587888000@bowfishingassociation.com
SUMMARY:US Open Bowfishing Tournament (BAA Sanctioned)
DESCRIPTION:April 24-26th \nSE Missouri and NW Arkansas \nBull Shoals \nBeaver Lake \nTruman Reservoir \nTable Rock (No Air Power) \n
URL:https://bowfishingassociation.com/event/us-open-bowfishing-tournament-baa-sanctioned/
LOCATION:Bass Pro Shops Shooting Academy\, Ridgedale\, MO\, Ridgedale\, MO\, United States
CATEGORIES:Big 20
END:VEVENT
END:VCALENDAR