BEGIN:VCALENDAR
VERSION:2.0
PRODID:-//Bowfishing Association of America - ECPv4.7.3//NONSGML v1.0//EN
CALSCALE:GREGORIAN
METHOD:PUBLISH
X-WR-CALNAME:Bowfishing Association of America
X-ORIGINAL-URL:https://bowfishingassociation.com
X-WR-CALDESC:Events for Bowfishing Association of America
BEGIN:VEVENT
DTSTART;TZID=UTC+0:20180721T080000
DTEND;TZID=UTC+0:20180722T160000
DTSTAMP:20260422T081143
CREATED:20180607T145634Z
LAST-MODIFIED:20180627T025021Z
UID:4290-1532160000-1532275200@bowfishingassociation.com
SUMMARY:BAA World Championship
DESCRIPTION:
URL:https://bowfishingassociation.com/event/test-event-4/
LOCATION:West Park – Umatilla\, OR\, West Park 3rd Street\, Umatilla\, OR\, 97882\, United States
CATEGORIES:Big 20/Numbers
ATTACH;FMTTYPE=image/jpeg:https://bowfishingassociation.com/wp-content/uploads/2018/06/2018-worlds.jpg
END:VEVENT
END:VCALENDAR