BEGIN:VCALENDAR
VERSION:2.0
PRODID:-//Bowfishing Association of America - ECPv4.7.3//NONSGML v1.0//EN
CALSCALE:GREGORIAN
METHOD:PUBLISH
X-WR-CALNAME:Bowfishing Association of America
X-ORIGINAL-URL:https://bowfishingassociation.com
X-WR-CALDESC:Events for Bowfishing Association of America
BEGIN:VEVENT
DTSTART;TZID=UTC+0:20180721T000000
DTEND;TZID=UTC+0:20180721T000000
DTSTAMP:20260422T093733
CREATED:20180627T171707Z
LAST-MODIFIED:20180627T171707Z
UID:4891-1532131200-1532131200@bowfishingassociation.com
SUMMARY:Southern Indiana Big 5 River Slam - 2
DESCRIPTION:
URL:https://bowfishingassociation.com/event/southern-indiana-big-5-river-slam-2/
END:VEVENT
END:VCALENDAR