BEGIN:VCALENDAR
VERSION:2.0
PRODID:-//Bowfishing Association of America - ECPv4.7.3//NONSGML v1.0//EN
CALSCALE:GREGORIAN
METHOD:PUBLISH
X-WR-CALNAME:Bowfishing Association of America
X-ORIGINAL-URL:https://bowfishingassociation.com
X-WR-CALDESC:Events for Bowfishing Association of America
BEGIN:VEVENT
DTSTART;TZID=UTC+0:20180721T000000
DTEND;TZID=UTC+0:20180721T000000
DTSTAMP:20260422T094131
CREATED:20180627T171705Z
LAST-MODIFIED:20180627T171705Z
UID:4887-1532131200-1532131200@bowfishingassociation.com
SUMMARY:Red River at Bishops
DESCRIPTION:
URL:https://bowfishingassociation.com/event/red-river-at-bishops/
END:VEVENT
END:VCALENDAR