BEGIN:VCALENDAR
VERSION:2.0
PRODID:-//Bowfishing Association of America - ECPv4.7.3//NONSGML v1.0//EN
CALSCALE:GREGORIAN
METHOD:PUBLISH
X-WR-CALNAME:Bowfishing Association of America
X-ORIGINAL-URL:https://bowfishingassociation.com
X-WR-CALDESC:Events for Bowfishing Association of America
BEGIN:VEVENT
DTSTART;TZID=UTC+0:20180714T000000
DTEND;TZID=UTC+0:20180714T000000
DTSTAMP:20260422T094541
CREATED:20180627T171705Z
LAST-MODIFIED:20180627T171705Z
UID:4886-1531526400-1531526400@bowfishingassociation.com
SUMMARY:Nebraska State Championship
DESCRIPTION:
URL:https://bowfishingassociation.com/event/nebraska-state-championship/
END:VEVENT
END:VCALENDAR