BEGIN:VCALENDAR
VERSION:2.0
PRODID:-//Bowfishing Association of America - ECPv4.7.3//NONSGML v1.0//EN
CALSCALE:GREGORIAN
METHOD:PUBLISH
X-WR-CALNAME:Bowfishing Association of America
X-ORIGINAL-URL:https://bowfishingassociation.com
X-WR-CALDESC:Events for Bowfishing Association of America
BEGIN:VEVENT
DTSTART;TZID=UTC+0:20180804T000000
DTEND;TZID=UTC+0:20180804T000000
DTSTAMP:20260422T155039
CREATED:20180627T171708Z
LAST-MODIFIED:20180627T171708Z
UID:4894-1533340800-1533340800@bowfishingassociation.com
SUMMARY:Mississippi River Pools 8-9-10
DESCRIPTION:
URL:https://bowfishingassociation.com/event/mississippi-river-pools-8-9-10/
END:VEVENT
END:VCALENDAR