BEGIN:VCALENDAR
VERSION:2.0
PRODID:-//Bowfishing Association of America - ECPv4.7.3//NONSGML v1.0//EN
CALSCALE:GREGORIAN
METHOD:PUBLISH
X-WR-CALNAME:Bowfishing Association of America
X-ORIGINAL-URL:https://bowfishingassociation.com
X-WR-CALDESC:Events for Bowfishing Association of America
BEGIN:VEVENT
DTSTART;TZID=UTC+0:20180714T000000
DTEND;TZID=UTC+0:20180714T000000
DTSTAMP:20260424T095701
CREATED:20180627T171704Z
LAST-MODIFIED:20180627T171704Z
UID:4884-1531526400-1531526400@bowfishingassociation.com
SUMMARY:Kaskaskia River Rough Fish Round Up
DESCRIPTION:
URL:https://bowfishingassociation.com/event/kaskaskia-river-rough-fish-round-up/
END:VEVENT
END:VCALENDAR