BEGIN:VCALENDAR
VERSION:2.0
PRODID:-//Bowfishing Association of America - ECPv4.7.3//NONSGML v1.0//EN
CALSCALE:GREGORIAN
METHOD:PUBLISH
X-WR-CALNAME:Bowfishing Association of America
X-ORIGINAL-URL:https://bowfishingassociation.com
X-WR-CALDESC:Events for Bowfishing Association of America
BEGIN:VEVENT
DTSTART;TZID=UTC+0:20181013T000000
DTEND;TZID=UTC+0:20181013T000000
DTSTAMP:20260422T010025
CREATED:20180627T171711Z
LAST-MODIFIED:20180627T171711Z
UID:4902-1539388800-1539388800@bowfishingassociation.com
SUMMARY:Fat Girls Big 5
DESCRIPTION:
URL:https://bowfishingassociation.com/event/fat-girls-big-5/
END:VEVENT
END:VCALENDAR