BEGIN:VCALENDAR
VERSION:2.0
PRODID:-//Bowfishing Association of America - ECPv4.7.3//NONSGML v1.0//EN
CALSCALE:GREGORIAN
METHOD:PUBLISH
X-WR-CALNAME:Bowfishing Association of America
X-ORIGINAL-URL:https://bowfishingassociation.com
X-WR-CALDESC:Events for Bowfishing Association of America
BEGIN:VEVENT
DTSTART;TZID=UTC+0:20180818T000000
DTEND;TZID=UTC+0:20180818T000000
DTSTAMP:20260422T111307
CREATED:20180627T171709Z
LAST-MODIFIED:20180627T171709Z
UID:4898-1534550400-1534550400@bowfishingassociation.com
SUMMARY:Alabama State Bowfishing Championship
DESCRIPTION:
URL:https://bowfishingassociation.com/event/alabama-state-bowfishing-championship/
END:VEVENT
END:VCALENDAR