BEGIN:VCALENDAR
VERSION:2.0
PRODID:-//Bowfishing Association of America - ECPv4.7.3//NONSGML v1.0//EN
CALSCALE:GREGORIAN
METHOD:PUBLISH
X-WR-CALNAME:Bowfishing Association of America
X-ORIGINAL-URL:https://bowfishingassociation.com
X-WR-CALDESC:Events for Bowfishing Association of America
BEGIN:VEVENT
DTSTART;TZID=UTC+0:20180623T000000
DTEND;TZID=UTC+0:20180623T000000
DTSTAMP:20260424T182121
CREATED:20180627T171701Z
LAST-MODIFIED:20180627T171701Z
UID:4878-1529712000-1529712000@bowfishingassociation.com
SUMMARY:Achafalaya Basin
DESCRIPTION:
URL:https://bowfishingassociation.com/event/achafalaya-basin/
END:VEVENT
END:VCALENDAR